BEGIN:VCALENDAR
VERSION:2.0
PRODID:spatie/icalendar-generator
BEGIN:VTIMEZONE
TZID:Europe/Madrid
BEGIN:DAYLIGHT
DTSTART:20260329T020000Z
TZOFFSETFROM:+0100
TZOFFSETTO:+0200
END:DAYLIGHT
BEGIN:STANDARD
DTSTART:20261025T030000Z
TZOFFSETFROM:+0200
TZOFFSETTO:+0100
END:STANDARD
BEGIN:DAYLIGHT
DTSTART:20270328T020000Z
TZOFFSETFROM:+0100
TZOFFSETTO:+0200
END:DAYLIGHT
END:VTIMEZONE
BEGIN:VTIMEZONE
TZID:UTC
BEGIN:STANDARD
DTSTART:20250727T134726Z
TZOFFSETFROM:+0000
TZOFFSETTO:+0000
END:STANDARD
END:VTIMEZONE
BEGIN:VEVENT
UID:69ea22ee2bd8d
DTSTAMP:20260423T134726Z
SUMMARY:FEMISE Annual Conference 2026
DESCRIPTION:The 2026 FEMISE Annual Conference offers a platform for researc
 hers to explore\nthese pressing issues and contribute evidence-based insig
 hts for policy and practice.
LOCATION:(exact date and venue to be determined)
ORGANIZER:MAILTO:IEMed
URL:https://www.iemed.org/events/femise-annual-conference-2026/
DTSTART;TZID=Europe/Madrid:20261015T000000
DTEND;TZID=Europe/Madrid:20261015T000000
END:VEVENT
END:VCALENDAR